BEGIN:VCALENDAR
VERSION:2.0
PRODID:-//Word Works Books - ECPv6.15.20//NONSGML v1.0//EN
CALSCALE:GREGORIAN
METHOD:PUBLISH
X-WR-CALNAME:Word Works Books
X-ORIGINAL-URL:https://wordworksbooks.org
X-WR-CALDESC:Events for Word Works Books
REFRESH-INTERVAL;VALUE=DURATION:PT1H
X-Robots-Tag:noindex
X-PUBLISHED-TTL:PT1H
BEGIN:VTIMEZONE
TZID:America/New_York
BEGIN:DAYLIGHT
TZOFFSETFROM:-0500
TZOFFSETTO:-0400
TZNAME:EDT
DTSTART:20220313T070000
END:DAYLIGHT
BEGIN:STANDARD
TZOFFSETFROM:-0400
TZOFFSETTO:-0500
TZNAME:EST
DTSTART:20221106T060000
END:STANDARD
BEGIN:DAYLIGHT
TZOFFSETFROM:-0500
TZOFFSETTO:-0400
TZNAME:EDT
DTSTART:20230312T070000
END:DAYLIGHT
BEGIN:STANDARD
TZOFFSETFROM:-0400
TZOFFSETTO:-0500
TZNAME:EST
DTSTART:20231105T060000
END:STANDARD
BEGIN:DAYLIGHT
TZOFFSETFROM:-0500
TZOFFSETTO:-0400
TZNAME:EDT
DTSTART:20240310T070000
END:DAYLIGHT
BEGIN:STANDARD
TZOFFSETFROM:-0400
TZOFFSETTO:-0500
TZNAME:EST
DTSTART:20241103T060000
END:STANDARD
END:VTIMEZONE
BEGIN:VEVENT
DTSTART;TZID=America/New_York:20230710T190000
DTEND;TZID=America/New_York:20230710T203000
DTSTAMP:20260425T221356
CREATED:20230126T184049Z
LAST-MODIFIED:20230129T172006Z
UID:7603-1689015600-1689021000@wordworksbooks.org
SUMMARY:Indran Amirthanayagam and Luther Jett
DESCRIPTION:Please go to our Café Muse Literary Salon Online website at https://sites.google.com/view/cafe-muse-events/home to register for this event. We will send you a reminder email and link by the day of the reading.
URL:https://wordworksbooks.org/event/indran-amirthanayagam-and-luther-jett/
LOCATION:The Writer’s Center\, 4508 Walsh Street\, Bethesda\, 20815\, United States
CATEGORIES:Reading
END:VEVENT
END:VCALENDAR