BEGIN:VCALENDAR
VERSION:2.0
PRODID:-//Word Works Books - ECPv6.15.20//NONSGML v1.0//EN
CALSCALE:GREGORIAN
METHOD:PUBLISH
X-WR-CALNAME:Word Works Books
X-ORIGINAL-URL:https://wordworksbooks.org
X-WR-CALDESC:Events for Word Works Books
REFRESH-INTERVAL;VALUE=DURATION:PT1H
X-Robots-Tag:noindex
X-PUBLISHED-TTL:PT1H
BEGIN:VTIMEZONE
TZID:UTC
BEGIN:STANDARD
TZOFFSETFROM:+0000
TZOFFSETTO:+0000
TZNAME:UTC
DTSTART:20150101T000000
END:STANDARD
END:VTIMEZONE
BEGIN:VEVENT
DTSTART;TZID=UTC:20170709T150000
DTEND;TZID=UTC:20170709T170000
DTSTAMP:20260423T200749
CREATED:20170529T000431Z
LAST-MODIFIED:20170529T000431Z
UID:1012-1499612400-1499619600@wordworksbooks.org
SUMMARY:Joaquin Miller Poetry Series—Khadijah Queen & Maggie Rosen
DESCRIPTION:
URL:https://wordworksbooks.org/event/joaquin-miller-poetry-series-khadijah-queen-maggie-rosen/
LOCATION:Rock Creek Nature Center Auditorium\, 5200 Glover Park Road\, NW\, Washington\, DC\, 20015
CATEGORIES:Reading
END:VEVENT
BEGIN:VEVENT
DTSTART;TZID=UTC:20170702T150000
DTEND;TZID=UTC:20170702T170000
DTSTAMP:20260423T200749
CREATED:20170528T234931Z
LAST-MODIFIED:20170528T234931Z
UID:1004-1499007600-1499014800@wordworksbooks.org
SUMMARY:Joaquin Miller Poetry Series—Devin Kelly & KT Landon
DESCRIPTION:
URL:https://wordworksbooks.org/event/joaquin-miller-poetry-series-devin-kelly-kt-landon/
LOCATION:Rock Creek Nature Center Auditorium\, 5200 Glover Park Road\, NW\, Washington\, DC\, 20015
CATEGORIES:Reading
END:VEVENT
BEGIN:VEVENT
DTSTART;TZID=UTC:20170625T150000
DTEND;TZID=UTC:20170625T170000
DTSTAMP:20260423T200749
CREATED:20170528T234352Z
LAST-MODIFIED:20170528T234546Z
UID:1002-1498402800-1498410000@wordworksbooks.org
SUMMARY:Joaquin Miller Poetry Series—RG Evans & Amber West
DESCRIPTION:
URL:https://wordworksbooks.org/event/joaquin-miller-poetry-series-rg-evans-amber-west/
LOCATION:Rock Creek Nature Center Auditorium\, 5200 Glover Park Road\, NW\, Washington\, DC\, 20015
CATEGORIES:Reading
END:VEVENT
BEGIN:VEVENT
DTSTART;TZID=UTC:20170619T190000
DTEND;TZID=UTC:20170619T210000
DTSTAMP:20260423T200749
CREATED:20170131T020452Z
LAST-MODIFIED:20170529T003823Z
UID:891-1497898800-1497906000@wordworksbooks.org
SUMMARY:Cafe Muse: Karren Alenier and Nancy White
DESCRIPTION:The Word Works\, in collaboration with Friendship Heights Village\, features readings by the poets Karren Alenier and Nancy White. \nCafé Muse opens at 7 pm with refreshments and classical guitar by Michael Davis; readings begin at 7:30. \nFriendship Heights Village Center is la 7 minute walk from Friendship Heights Western Avenue Redline subway stop. All Café Muse programs are free to the public and handicap accessible. Come out and hear some good poetry\, and read some of your own! \nOur Cafe Muse co-directors are Rocky Delaplaine\, Susan Okie and Henry Crawford.
URL:https://wordworksbooks.org/event/cafe-muse-karren-alenier-and-nancy-white/
LOCATION:Friendship Heights Village Center\, 4433 South Park Avenue\, Chevy Chase\, MD\, 20815\, United States
CATEGORIES:Reading
END:VEVENT
BEGIN:VEVENT
DTSTART;TZID=UTC:20170618T150000
DTEND;TZID=UTC:20170618T170000
DTSTAMP:20260423T200749
CREATED:20170528T233813Z
LAST-MODIFIED:20170529T002511Z
UID:1000-1497798000-1497805200@wordworksbooks.org
SUMMARY:Joaquin Miller Poetry Series—Donika Kelly & Michelle Tokarczyk
DESCRIPTION:
URL:https://wordworksbooks.org/event/joaquin-miller-poetry-series-donika-kelly-michelle-tokarczyk/
LOCATION:Rock Creek Nature Center Auditorium\, 5200 Glover Park Road\, NW\, Washington\, DC\, 20015
CATEGORIES:Reading
END:VEVENT
BEGIN:VEVENT
DTSTART;TZID=UTC:20170611T150000
DTEND;TZID=UTC:20170611T170000
DTSTAMP:20260423T200749
CREATED:20170528T233139Z
LAST-MODIFIED:20170602T072232Z
UID:996-1497193200-1497200400@wordworksbooks.org
SUMMARY:Joaquin Miller Poetry Series—David Eye & William Notter
DESCRIPTION:
URL:https://wordworksbooks.org/event/joaquin-miller-poetry-series-david-eye-william-notter/
LOCATION:Rock Creek Nature Center Auditorium\, 5200 Glover Park Road\, NW\, Washington\, DC\, 20015
CATEGORIES:Reading
END:VEVENT
BEGIN:VEVENT
DTSTART;TZID=UTC:20170604T150000
DTEND;TZID=UTC:20170604T170000
DTSTAMP:20260423T200749
CREATED:20170528T232434Z
LAST-MODIFIED:20170529T004418Z
UID:994-1496588400-1496595600@wordworksbooks.org
SUMMARY:Joaquin Miller Poetry Series—Roger Sedarat & Jacklyn Potter Young Poets Cindy Song & Olivia Tucker
DESCRIPTION:Join us at the Rock Creek Nature Center auditorium to hear poetry by Roger Sedarat and the Jacklyn Potter Young Poets Cindy Song & Olivia Tucker. \n\n\n \n\n\nBring a short poem for the open reading (sign up begins at 2:45). \n\n\n \n\n\nPlenty of free parking. The Nature Center is located at the far north side of the Horse Stables. Wheel chair accessible.\n\n\n \n\n\nVisitor info: 202-895-6070\n\n\n \n\n\nThe first program\, hosted by Jason Gebhardt\, includes a reading of Joaquin Miller’s poem “Columbus” by Miles David Moore.\n\n \nRoger Sedarat is the 2016 winner of The Word Works Tenth Gate Prize for his collection Haji as Puppet.
URL:https://wordworksbooks.org/event/joaquin-miller-poetry-series-roger-sedarat-jacklyn-potter-young-poets-cindy-song-olivia-tucker/
LOCATION:Rock Creek Nature Center Auditorium\, 5200 Glover Park Road\, NW\, Washington\, DC\, 20015
CATEGORIES:Reading
END:VEVENT
BEGIN:VEVENT
DTSTART;VALUE=DATE:20170601
DTEND;VALUE=DATE:20170716
DTSTAMP:20260423T200749
CREATED:20160228T215439Z
LAST-MODIFIED:20170131T074505Z
UID:682-1496275200-1500163199@wordworksbooks.org
SUMMARY:Tenth Gate Prize Submission Deadline
DESCRIPTION:Tenth Gate will receive poetry manuscripts electronically only. For full submission guidelines\, check our website.
URL:https://wordworksbooks.org/event/tenth-gate-prize-submission-deadline/
LOCATION:MD
END:VEVENT
BEGIN:VEVENT
DTSTART;TZID=UTC:20170522T190000
DTEND;TZID=UTC:20170522T210000
DTSTAMP:20260423T200749
CREATED:20170131T020452Z
LAST-MODIFIED:20170131T074240Z
UID:887-1495479600-1495486800@wordworksbooks.org
SUMMARY:Cafe Muse: Jean Nordhaus and Jeneva Stone
DESCRIPTION:The Word Works\, in collaboration with Friendship Heights Village\, features readings by the poets Jean Nordhaus and Jeneva Stone. \nCafé Muse opens at 7 pm with refreshments and classical guitar by Michael Davis; readings begin at 7:30. \nFriendship Heights Village Center is la 7 minute walk from Friendship Heights Western Avenue Redline subway stop. All Café Muse programs are free to the public and handicap accessible. Come out and hear some good poetry\, and read some of your own! \nOur Cafe Muse co-directors are Rocky Delaplaine\, Susan Okie and Henry Crawford.
URL:https://wordworksbooks.org/event/cafe-muse-jean-nordhaus-and-jeneva-stone/
LOCATION:Friendship Heights Village Center\, 4433 South Park Avenue\, Chevy Chase\, MD\, 20815\, United States
CATEGORIES:Reading
END:VEVENT
BEGIN:VEVENT
DTSTART;TZID=UTC:20170424T190000
DTEND;TZID=UTC:20170424T210000
DTSTAMP:20260423T200749
CREATED:20170131T020452Z
LAST-MODIFIED:20170131T071403Z
UID:886-1493060400-1493067600@wordworksbooks.org
SUMMARY:Cafe Muse: Nathan McCain and Noah Stetzer
DESCRIPTION:The Word Works\, in collaboration with Friendship Heights Village\, features readings by the poets Nathan McCain and Noah Stetzer. \nCafé Muse opens at 7 pm with refreshments and classical guitar by Michael Davis; readings begin at 7:30. \nFriendship Heights Village Center is la 7 minute walk from Friendship Heights Western Avenue Redline subway stop. All Café Muse programs are free to the public and handicap accessible. Come out and hear some good poetry\, and read some of your own! \nOur Cafe Muse co-directors are Rocky Delaplaine\, Susan Okie and Henry Crawford.
URL:https://wordworksbooks.org/event/cafe-muse-nathan-mccain-and-noah-stetzer/
LOCATION:Friendship Heights Village Center\, 4433 South Park Avenue\, Chevy Chase\, MD\, 20815\, United States
CATEGORIES:Reading
END:VEVENT
BEGIN:VEVENT
DTSTART;VALUE=DATE:20170415
DTEND;VALUE=DATE:20170502
DTSTAMP:20260423T200749
CREATED:20160228T214958Z
LAST-MODIFIED:20170131T075341Z
UID:681-1492214400-1493683199@wordworksbooks.org
SUMMARY:HTCC Submission Deadline
DESCRIPTION:The Word Works is accepting poetry manuscripts from poets who either volunteer for The Word Works or other organizations. There is no submission fee for Word Works volunteers. \nFind full submission guidelines on our website. \nHilary Tham Capital Collection \n \n 
URL:https://wordworksbooks.org/event/htcc-submission-deadline/
LOCATION:MD
END:VEVENT
BEGIN:VEVENT
DTSTART;TZID=UTC:20170320T190000
DTEND;TZID=UTC:20170320T210000
DTSTAMP:20260423T200749
CREATED:20170131T020452Z
LAST-MODIFIED:20170131T020654Z
UID:884-1490036400-1490043600@wordworksbooks.org
SUMMARY:Cafe Muse: Annie Kim and Ross White
DESCRIPTION:The Word Works\, in collaboration with Friendship Heights Village\, features readings by the poets Annie Kim and Ross White. \nCafé Muse opens at 7 pm with refreshments and classical guitar by Michael Davis; readings begin at 7:30. \nFriendship Heights Village Center is la 7 minute walk from Friendship Heights Western Avenue Redline subway stop. All Café Muse programs are free to the public and handicap accessible. Come out and hear some good poetry\, and read some of your own! \nOur Cafe Muse co-directors are Rocky Delaplaine\, Susan Okie and Henry Crawford.
URL:https://wordworksbooks.org/event/cafe-muse-annie-kim-and-ross-white/
LOCATION:Friendship Heights Village Center\, 4433 South Park Avenue\, Chevy Chase\, MD\, 20815\, United States
CATEGORIES:Reading
END:VEVENT
BEGIN:VEVENT
DTSTART;TZID=UTC:20170227T190000
DTEND;TZID=UTC:20170227T210000
DTSTAMP:20260423T200749
CREATED:20170130T190048Z
LAST-MODIFIED:20170131T022129Z
UID:520-1488222000-1488229200@wordworksbooks.org
SUMMARY:Cafe Muse: Alana Marie Levinson-LaBrosse and Katherine E. Young
DESCRIPTION:The Word Works\, in collaboration with Friendship Heights Village\, features readings by the poets Alana Marie Levinson-LaBrosse and Katherine E. Young. \nCafé Muse opens at 7 pm with refreshments and classical guitar by Michael Davis; readings begin at 7:30. \nFriendship Heights Village Center is la 7 minute walk from Friendship Heights Western Avenue Redline subway stop. All Café Muse programs are free to the public and handicap accessible. Come out and hear some good poetry\, and read some of your own! \nOur Cafe Muse co-directors are Rocky Delaplaine\, Susan Okie and Henry Crawford.
URL:https://wordworksbooks.org/event/cafe-muse-alana-marie-levinson-labrosse-and-katherine-young/
LOCATION:Friendship Heights Village Center\, 4433 South Park Avenue\, Chevy Chase\, MD\, 20815\, United States
CATEGORIES:Reading
ORGANIZER;CN="The Word Works":MAILTO:karren@wordworksbooks.org
END:VEVENT
BEGIN:VEVENT
DTSTART;TZID=UTC:20170210T180000
DTEND;TZID=UTC:20170210T193000
DTSTAMP:20260423T200749
CREATED:20170131T020452Z
LAST-MODIFIED:20170208T004116Z
UID:919-1486749600-1486755000@wordworksbooks.org
SUMMARY:Word Works 2017 New Authors Reading—International Hostel
DESCRIPTION:At AWP 2017\, The Word Works is launching 10 books and sponsoring two off-campus readings. \nOn Friday February 10\, the lobby of the International Hostel is the 2nd and final  off-campus AWP reading and will feature: \n    Annik Adey-Babinski\n    Nathalie Anderson\n    Jessica Cuello\n    David Eye\n    Ann Pelletier\n    Roger Sendarat\n    Fritz Ward\n    Amber West\n    Nancy White\n    Mary-Sherman Willis\nFrom the Walter Washington Convention Center\, the International Hostel is a short walk. \n 
URL:https://wordworksbooks.org/event/word-works-2017-new-authors-reading-international-hostel/
LOCATION:International Hostel\, 1009 11th St\, NW\, Washington\, 20001
CATEGORIES:Reading
END:VEVENT
BEGIN:VEVENT
DTSTART;TZID=UTC:20170208T173000
DTEND;TZID=UTC:20170208T192000
DTSTAMP:20260423T200749
CREATED:20170131T020452Z
LAST-MODIFIED:20170204T200319Z
UID:918-1486575000-1486581600@wordworksbooks.org
SUMMARY:Word Works Wall of Books 2017 New Authors Reading
DESCRIPTION:At AWP 2017\, The Word Works is launching 10 books and sponsoring two off-campus readings. \nOn Wednesday February 8\, Walls of Books is the first off-campus AWP reading and will feature: \nNathalie Anderson\n    Jessica Cuello\n    David Eye\n    Ann Pelletier\n    Fritz Ward\n    Amber West\n    Mary-Sherman Willis\nFrom the Walter Washington Convention Center\, take a Metro bus north on 7th Ave which becomes Georgia Avenue or contact Uber or Lyft. \nThe 2nd reading takes place on Friday\, February 10 in the lobby of International Hosteling. See Event entry for details. \n 
URL:https://wordworksbooks.org/event/word-works-walls-of-books-2017-new-authors-reading-2/
LOCATION:Walls of Books\, 3325 Georgia Avenue\, NW\, Washington\, DC\, 20010\, United States
CATEGORIES:Reading
END:VEVENT
BEGIN:VEVENT
DTSTART;TZID=UTC:20170208T100000
DTEND;TZID=UTC:20170211T170000
DTSTAMP:20260423T200749
CREATED:20170130T210029Z
LAST-MODIFIED:20170508T195103Z
UID:535-1486548000-1486832400@wordworksbooks.org
SUMMARY:AWP Book Fair—Booth 866
DESCRIPTION:The Word Works invites AWP conference-goers to visit booth 866 to see our new titles and chat about publication options and our ongoing events in Washington\, DC. \nCome and meet Word Works president Nancy White and authors of Word Works books. \n 
URL:https://wordworksbooks.org/event/awp-book-fair-booth-866/
LOCATION:Washington Convention Center\, 801 Mt. Vernon Place\, Washington\, DC\, 20001\, United States
END:VEVENT
BEGIN:VEVENT
DTSTART;TZID=UTC:20170115T080000
DTEND;TZID=UTC:20170315T235900
DTSTAMP:20260423T200749
CREATED:20160228T213738Z
LAST-MODIFIED:20170131T073013Z
UID:679-1484467200-1489622340@wordworksbooks.org
SUMMARY:Washington Prize Submission Deadline
DESCRIPTION:Submit your poetry manuscripts through our online submission manager or postmark your paper submission by midnight of our due date. See our website for submission details. \nVisit our AWP booth 866 for details and to see books that have won the Washington Prize.
URL:https://wordworksbooks.org/event/washington-prize-submission-deadline/
LOCATION:MD
CATEGORIES:Contest
END:VEVENT
BEGIN:VEVENT
DTSTART;TZID=UTC:20161205T190000
DTEND;TZID=UTC:20161205T204500
DTSTAMP:20260423T200749
CREATED:20160221T075231Z
LAST-MODIFIED:20161027T204059Z
UID:534-1480964400-1480970700@wordworksbooks.org
SUMMARY:Cafe Muse: Veils\, Halos & Shackles: inc Linda Pastan
DESCRIPTION:The Word Works\, in collaboration with Friendship Heights Village\, features readings from Veils\, Halos and Shackles: International Poetry on the Abuse and Oppression of Women with poets Ned Balbo\, Roberta Beary\, Linda Pastan\, Jane Satterfield and moderator Charles Fishman. \nCafé Muse opens at 7 pm with refreshments and classical guitar by Michael Davis; readings begin at 7:30. \nFriendship Heights Village Center is la 7 minute walk from Friendship Heights Western Avenue Redline subway stop. All Café Muse programs are free to the public and handicap accessible. Come out and hear some good poetry\, and read some of your own! \nOur Cafe Muse co-directors are Rocky Delaplaine\, Susan Okie and Henry Crawford.
URL:https://wordworksbooks.org/event/cafe-muse-veils-halos-shackles-inc-linda-pastan/
LOCATION:Friendship Heights Village Center\, 4433 South Park Avenue\, Chevy Chase\, MD\, 20815\, United States
ORGANIZER;CN="The Word Works":MAILTO:karren@wordworksbooks.org
END:VEVENT
BEGIN:VEVENT
DTSTART;TZID=UTC:20161121T190000
DTEND;TZID=UTC:20161121T204500
DTSTAMP:20260423T200749
CREATED:20160221T074523Z
LAST-MODIFIED:20160221T074523Z
UID:533-1479754800-1479761100@wordworksbooks.org
SUMMARY:Cafe Muse: Barbara Duffey & Joelle Biele
DESCRIPTION:The Word Works\, in collaboration with Friendship Heights Village\, features readings by the poets Barbara Duffey and Joelle Biele. \nCafé Muse opens at 7 pm with refreshments and classical guitar by Michael Davis; readings begin at 7:30. \nFriendship Heights Village Center is la 7 minute walk from Friendship Heights Western Avenue Redline subway stop. All Café Muse programs are free to the public and handicap accessible. Come out and hear some good poetry\, and read some of your own! \nOur Cafe Muse co-directors are Rocky Delaplaine\, Susan Okie and Henry Crawford.
URL:https://wordworksbooks.org/event/cafe-muse-barbara-duffey-joelle-biele/
LOCATION:Friendship Heights Village Center\, 4433 South Park Avenue\, Chevy Chase\, MD\, 20815\, United States
ORGANIZER;CN="The Word Works":MAILTO:karren@wordworksbooks.org
END:VEVENT
BEGIN:VEVENT
DTSTART;TZID=UTC:20161017T190000
DTEND;TZID=UTC:20161017T204500
DTSTAMP:20260423T200749
CREATED:20160221T074001Z
LAST-MODIFIED:20160221T074001Z
UID:532-1476730800-1476737100@wordworksbooks.org
SUMMARY:Cafe Muse: David Baker & Stanley Plumly
DESCRIPTION:The Word Works\, in collaboration with Friendship Heights Village\, features readings by the poets David Baker and Stanley Plumly. \nCafé Muse opens at 7 pm with refreshments and classical guitar by Michael Davis; readings begin at 7:30. \nFriendship Heights Village Center is la 7 minute walk from Friendship Heights Western Avenue Redline subway stop. All Café Muse programs are free to the public and handicap accessible. Come out and hear some good poetry\, and read some of your own! \nOur Cafe Muse co-directors are Rocky Delaplaine\, Susan Okie and Henry Crawford.
URL:https://wordworksbooks.org/event/cafe-muse-david-baker-stanley-plumly/
LOCATION:Friendship Heights Village Center\, 4433 South Park Avenue\, Chevy Chase\, MD\, 20815\, United States
ORGANIZER;CN="The Word Works":MAILTO:karren@wordworksbooks.org
END:VEVENT
BEGIN:VEVENT
DTSTART;TZID=UTC:20160919T190000
DTEND;TZID=UTC:20160919T204500
DTSTAMP:20260423T200749
CREATED:20160221T073443Z
LAST-MODIFIED:20160221T073443Z
UID:531-1474311600-1474317900@wordworksbooks.org
SUMMARY:Cafe Muse: Cheryl Clarke & Carol Jennings
DESCRIPTION:The Word Works\, in collaboration with Friendship Heights Village\, features readings by the poets Cheryl Clarke and Carol Jennings. \nCafé Muse opens at 7 pm with refreshments and classical guitar by Michael Davis; readings begin at 7:30. \nFriendship Heights Village Center is la 7 minute walk from Friendship Heights Western Avenue Redline subway stop. All Café Muse programs are free to the public and handicap accessible. Come out and hear some good poetry\, and read some of your own! \nOur Cafe Muse co-directors are Rocky Delaplaine\, Susan Okie and Henry Crawford.
URL:https://wordworksbooks.org/event/cafe-muse-cheryl-clarke-carol-jennings/
LOCATION:Friendship Heights Village Center\, 4433 South Park Avenue\, Chevy Chase\, MD\, 20815\, United States
ORGANIZER;CN="The Word Works":MAILTO:karren@wordworksbooks.org
END:VEVENT
BEGIN:VEVENT
DTSTART;TZID=UTC:20160815T190000
DTEND;TZID=UTC:20160815T204500
DTSTAMP:20260423T200749
CREATED:20160221T024027Z
LAST-MODIFIED:20160221T024027Z
UID:529-1471287600-1471293900@wordworksbooks.org
SUMMARY:Cafe Muse: ALT Translators Carlson & Kercheval
DESCRIPTION:The Word Works\, in collaboration with Friendship Heights Village\, features readings by the ALT translators Nancy Naomi Carlson and Jesse Lee Kercheval. \nCafé Muse opens at 7 pm with refreshments and classical guitar by Michael Davis; readings begin at 7:30. \nFriendship Heights Village Center is la 7 minute walk from Friendship Heights Western Avenue Redline subway stop. All Café Muse programs are free to the public and handicap accessible. Come out and hear some good poetry\, and read some of your own! \nOur Cafe Muse co-directors are Rocky Delaplaine\, Susan Okie and Henry Crawford.
URL:https://wordworksbooks.org/event/cafe-muse-alt-translators-carlson-kercheval/
LOCATION:Friendship Heights Village Center\, 4433 South Park Avenue\, Chevy Chase\, MD\, 20815\, United States
ORGANIZER;CN="The Word Works":MAILTO:karren@wordworksbooks.org
END:VEVENT
BEGIN:VEVENT
DTSTART;TZID=UTC:20160731T150000
DTEND;TZID=UTC:20160731T170000
DTSTAMP:20260423T200749
CREATED:20160602T230218Z
LAST-MODIFIED:20160602T230218Z
UID:853-1469977200-1469984400@wordworksbooks.org
SUMMARY:Joaquin Miller Poetry Series: Jason Gebhardt & Amie Whittemore.
DESCRIPTION:The Word Works in Collaboration with Rock Creek Park features poetry with featured readers Jason Gebhardt & Amie Whittemore. \nSign up at 2:45 pm for our open poetry mic (one poem under 2 minutes). \nHandicap accessible. Check with the Rock Creek Nature Center for access.
URL:https://wordworksbooks.org/event/joaquin-miller-poetry-series-jason-gebhardt-amie-whittemore/
LOCATION:Rock Creek Nature Center Auditorium\, 5200 Glover Park Road\, NW\, Washington\, DC\, 20015
END:VEVENT
BEGIN:VEVENT
DTSTART;TZID=UTC:20160724T150000
DTEND;TZID=UTC:20160724T170000
DTSTAMP:20260423T200749
CREATED:20160602T225946Z
LAST-MODIFIED:20160602T225946Z
UID:852-1469372400-1469379600@wordworksbooks.org
SUMMARY:Joaquin Miller Poetry Series: Teri Ellen Cross Davis & Richard Levine
DESCRIPTION:The Word Works in Collaboration with Rock Creek Park features poetry with featured readers Teri Ellen Cross Davis & Richard Levine. \nSign up at 2:45 pm for our open poetry mic (one poem under 2 minutes). \nHandicap accessible. Check with the Rock Creek Nature Center for access.
URL:https://wordworksbooks.org/event/joaquin-miller-poetry-series-teri-ellen-cross-davis-richard-levine/
LOCATION:Rock Creek Nature Center Auditorium\, 5200 Glover Park Road\, NW\, Washington\, DC\, 20015
END:VEVENT
BEGIN:VEVENT
DTSTART;TZID=UTC:20160718T190000
DTEND;TZID=UTC:20160718T204500
DTSTAMP:20260423T200749
CREATED:20160221T023203Z
LAST-MODIFIED:20160221T023458Z
UID:528-1468868400-1468874700@wordworksbooks.org
SUMMARY:Cafe Muse: Carrie Bennett & Celeste Doaks
DESCRIPTION:The Word Works\, in collaboration with Friendship Heights Village\, features readings by the poets Carrie Bennett and Celeste Doaks. \nCafé Muse opens at 7 pm with refreshments and classical guitar by Michael Davis; readings begin at 7:30. \nFriendship Heights Village Center is la 7 minute walk from Friendship Heights Western Avenue Redline subway stop. All Café Muse programs are free to the public and handicap accessible. Come out and hear some good poetry\, and read some of your own! \nOur Cafe Muse co-directors are Rocky Delaplaine\, Susan Okie and Henry Crawford.
URL:https://wordworksbooks.org/event/cafe-muse-carrie-bennett-celeste-doaks/
LOCATION:Friendship Heights Village Center\, 4433 South Park Avenue\, Chevy Chase\, MD\, 20815\, United States
ORGANIZER;CN="The Word Works":MAILTO:karren@wordworksbooks.org
END:VEVENT
BEGIN:VEVENT
DTSTART;TZID=UTC:20160717T150000
DTEND;TZID=UTC:20160717T170000
DTSTAMP:20260423T200749
CREATED:20160602T225634Z
LAST-MODIFIED:20160602T230326Z
UID:850-1468767600-1468774800@wordworksbooks.org
SUMMARY:Joaquin Miller Poetry Series: Karren Alenier & Ayaz Pirani
DESCRIPTION:The Word Works in Collaboration with Rock Creek Park features poetry with featured readers Karren Alenier & Ayaz Pirani. \nSign up at 2:45 pm for our open poetry mic (one poem under 2 minutes). \nHandicap accessible. Check with the Rock Creek Nature Center for access.
URL:https://wordworksbooks.org/event/joaquin-miller-poetry-series-karren-alenier-ayaz-pirani/
LOCATION:Rock Creek Nature Center Auditorium\, 5200 Glover Park Road\, NW\, Washington\, DC\, 20015
END:VEVENT
BEGIN:VEVENT
DTSTART;TZID=UTC:20160710T150000
DTEND;TZID=UTC:20160710T170000
DTSTAMP:20260423T200749
CREATED:20160602T225233Z
LAST-MODIFIED:20160602T225233Z
UID:848-1468162800-1468170000@wordworksbooks.org
SUMMARY:Joaquin Miller Poetry Series: Hayes Davis & Leeya Mehta
DESCRIPTION:The Word Works in Collaboration with Rock Creek Park features poetry with featured readers Hayes Davis & Leeya Mehta. \nSign up at 2:45 pm for our open poetry mic (one poem under 2 minutes). \nHandicap accessible. Check with the Rock Creek Nature Center for access.
URL:https://wordworksbooks.org/event/joaquin-miller-poetry-series-hayes-davis-leeya-mehta/
LOCATION:Rock Creek Nature Center Auditorium\, 5200 Glover Park Road\, NW\, Washington\, DC\, 20015
END:VEVENT
BEGIN:VEVENT
DTSTART;TZID=UTC:20160626T150000
DTEND;TZID=UTC:20160626T170000
DTSTAMP:20260423T200749
CREATED:20160602T224344Z
LAST-MODIFIED:20160602T224802Z
UID:846-1466953200-1466960400@wordworksbooks.org
SUMMARY:Joaquin Miller Poetry Series: Remica Bingham-Risher & Michael Brokos
DESCRIPTION:The Word Works in Collaboration with Rock Creek Park features poetry with featured readers Remica Bingham-Risher and Michael Brokos. \nSign up at 2:45 pm for our open poetry mic (one poem under 2 minutes). \nHandicap accessible. Check with the Rock Creek Nature Center for access.
URL:https://wordworksbooks.org/event/joaquin-miller-poetry-series-remica-bingham-risher-michael-brokos/
LOCATION:Rock Creek Nature Center Auditorium\, 5200 Glover Park Road\, NW\, Washington\, DC\, 20015
END:VEVENT
BEGIN:VEVENT
DTSTART;TZID=UTC:20160620T190000
DTEND;TZID=UTC:20160620T204500
DTSTAMP:20260423T200749
CREATED:20160221T022909Z
LAST-MODIFIED:20160221T022909Z
UID:527-1466449200-1466455500@wordworksbooks.org
SUMMARY:Cafe Muse: Norma Chapman & Cammy Thomas
DESCRIPTION:The Word Works\, in collaboration with Friendship Heights Village\, features readings by the poets Norma Chapman and Cammy Thomas. \nCafé Muse opens at 7 pm with refreshments and classical guitar by Michael Davis; readings begin at 7:30. \nFriendship Heights Village Center is la 7 minute walk from Friendship Heights Western Avenue Redline subway stop. All Café Muse programs are free to the public and handicap accessible. Come out and hear some good poetry\, and read some of your own! \nOur Cafe Muse co-directors are Rocky Delaplaine\, Susan Okie and Henry Crawford.
URL:https://wordworksbooks.org/event/cafe-muse-norma-chapman-cammy-thomas/
LOCATION:Friendship Heights Village Center\, 4433 South Park Avenue\, Chevy Chase\, MD\, 20815\, United States
ORGANIZER;CN="The Word Works":MAILTO:karren@wordworksbooks.org
END:VEVENT
BEGIN:VEVENT
DTSTART;TZID=UTC:20160619T150000
DTEND;TZID=UTC:20160619T170000
DTSTAMP:20260423T200749
CREATED:20160602T224645Z
LAST-MODIFIED:20160602T224645Z
UID:847-1466348400-1466355600@wordworksbooks.org
SUMMARY:Joaquin Miller Poetry Series: Alan King & Ross White
DESCRIPTION:The Word Works in Collaboration with Rock Creek Park features poetry with featured readers Alan King & Ross White. \nSign up at 2:45 pm for our open poetry mic (one poem under 2 minutes). \nHandicap accessible. Check with the Rock Creek Nature Center for access.
URL:https://wordworksbooks.org/event/joaquin-miller-poetry-series-alan-king-ross-white/
LOCATION:Rock Creek Nature Center Auditorium\, 5200 Glover Park Road\, NW\, Washington\, DC\, 20015
END:VEVENT
END:VCALENDAR