BEGIN:VCALENDAR
VERSION:2.0
PRODID:-//Word Works Books - ECPv6.15.20//NONSGML v1.0//EN
CALSCALE:GREGORIAN
METHOD:PUBLISH
X-ORIGINAL-URL:https://wordworksbooks.org
X-WR-CALDESC:Events for Word Works Books
REFRESH-INTERVAL;VALUE=DURATION:PT1H
X-Robots-Tag:noindex
X-PUBLISHED-TTL:PT1H
BEGIN:VTIMEZONE
TZID:America/New_York
BEGIN:DAYLIGHT
TZOFFSETFROM:-0500
TZOFFSETTO:-0400
TZNAME:EDT
DTSTART:20250309T070000
END:DAYLIGHT
BEGIN:STANDARD
TZOFFSETFROM:-0400
TZOFFSETTO:-0500
TZNAME:EST
DTSTART:20251102T060000
END:STANDARD
BEGIN:DAYLIGHT
TZOFFSETFROM:-0500
TZOFFSETTO:-0400
TZNAME:EDT
DTSTART:20260308T070000
END:DAYLIGHT
BEGIN:STANDARD
TZOFFSETFROM:-0400
TZOFFSETTO:-0500
TZNAME:EST
DTSTART:20261101T060000
END:STANDARD
BEGIN:DAYLIGHT
TZOFFSETFROM:-0500
TZOFFSETTO:-0400
TZNAME:EDT
DTSTART:20270314T070000
END:DAYLIGHT
BEGIN:STANDARD
TZOFFSETFROM:-0400
TZOFFSETTO:-0500
TZNAME:EST
DTSTART:20271107T060000
END:STANDARD
END:VTIMEZONE
BEGIN:VEVENT
DTSTART;TZID=America/New_York:20260504T080000
DTEND;TZID=America/New_York:20260504T170000
DTSTAMP:20260422T184752
CREATED:20260126T201137Z
LAST-MODIFIED:20260126T201137Z
UID:10029-1777881600-1777914000@wordworksbooks.org
SUMMARY:Carrie Bennett & Dorsia Smith Silva
DESCRIPTION:
URL:https://wordworksbooks.org/event/carrie-bennett-dorsia-smith-silva/
LOCATION:MD
CATEGORIES:Reading
ORGANIZER;CN="The Word Works":MAILTO:karren@wordworksbooks.org
END:VEVENT
BEGIN:VEVENT
DTSTART;TZID=America/New_York:20260601T190000
DTEND;TZID=America/New_York:20260601T203000
DTSTAMP:20260422T184752
CREATED:20260126T201622Z
LAST-MODIFIED:20260126T201622Z
UID:10031-1780340400-1780345800@wordworksbooks.org
SUMMARY:Michele Evans & Jacklyn Potter Young Poets winners
DESCRIPTION:
URL:https://wordworksbooks.org/event/michele-evans-jacklyn-potter-young-poets-winners/
LOCATION:MD
CATEGORIES:Reading
ORGANIZER;CN="The Word Works":MAILTO:karren@wordworksbooks.org
END:VEVENT
BEGIN:VEVENT
DTSTART;TZID=America/New_York:20260706T190000
DTEND;TZID=America/New_York:20260706T190000
DTSTAMP:20260422T184752
CREATED:20260126T201804Z
LAST-MODIFIED:20260126T202554Z
UID:10033-1783364400-1783364400@wordworksbooks.org
SUMMARY:Greg Luce & Burgi Zenhaeusern
DESCRIPTION:
URL:https://wordworksbooks.org/event/greg-luce-burgi-zenhaeusern/
LOCATION:The Writer’s Center\, 4508 Walsh Street\, Bethesda\, 20815\, United States
CATEGORIES:Reading
ORGANIZER;CN="The Word Works":MAILTO:karren@wordworksbooks.org
END:VEVENT
BEGIN:VEVENT
DTSTART;TZID=America/New_York:20260803T190000
DTEND;TZID=America/New_York:20260803T203000
DTSTAMP:20260422T184752
CREATED:20260126T201901Z
LAST-MODIFIED:20260126T201901Z
UID:10035-1785783600-1785789000@wordworksbooks.org
SUMMARY:Translation Reading
DESCRIPTION:
URL:https://wordworksbooks.org/event/translation-reading/
LOCATION:MD
CATEGORIES:Reading
END:VEVENT
BEGIN:VEVENT
DTSTART;TZID=America/New_York:20260914T190000
DTEND;TZID=America/New_York:20260914T203000
DTSTAMP:20260422T184752
CREATED:20260126T202014Z
LAST-MODIFIED:20260126T202615Z
UID:10037-1789412400-1789417800@wordworksbooks.org
SUMMARY:Luther Jett & Julia Kolchinsky
DESCRIPTION:
URL:https://wordworksbooks.org/event/luther-jett-julia-kolchinsky/
LOCATION:The Writer’s Center\, 4508 Walsh Street\, Bethesda\, 20815\, United States
CATEGORIES:Reading
ORGANIZER;CN="The Word Works":MAILTO:karren@wordworksbooks.org
END:VEVENT
BEGIN:VEVENT
DTSTART;TZID=America/New_York:20261005T190000
DTEND;TZID=America/New_York:20261005T203000
DTSTAMP:20260422T184752
CREATED:20260126T202118Z
LAST-MODIFIED:20260126T202651Z
UID:10039-1791226800-1791232200@wordworksbooks.org
SUMMARY:Lola Haskins & Mary Sesso
DESCRIPTION:
URL:https://wordworksbooks.org/event/lola-haskins-mary-sesso/
LOCATION:The Writer’s Center\, 4508 Walsh Street\, Bethesda\, 20815\, United States
CATEGORIES:Reading
ORGANIZER;CN="The Word Works":MAILTO:karren@wordworksbooks.org
END:VEVENT
BEGIN:VEVENT
DTSTART;TZID=America/New_York:20261102T190000
DTEND;TZID=America/New_York:20261102T203000
DTSTAMP:20260422T184752
CREATED:20260126T202221Z
LAST-MODIFIED:20260126T202221Z
UID:10041-1793646000-1793651400@wordworksbooks.org
SUMMARY:Word Works Showcase Mary Block\, Maria Terrone\, Barbara Ungar
DESCRIPTION:
URL:https://wordworksbooks.org/event/word-works-showcase-mary-block-maria-terrone-barbara-ungar/
LOCATION:MD
CATEGORIES:Reading
ORGANIZER;CN="The Word Works":MAILTO:karren@wordworksbooks.org
END:VEVENT
BEGIN:VEVENT
DTSTART;TZID=America/New_York:20261207T190000
DTEND;TZID=America/New_York:20261207T203000
DTSTAMP:20260422T184752
CREATED:20260126T202327Z
LAST-MODIFIED:20260126T202712Z
UID:10043-1796670000-1796675400@wordworksbooks.org
SUMMARY:WWPH America’s Future Anthology Reading
DESCRIPTION:
URL:https://wordworksbooks.org/event/wwph-americas-future-anthology-reading/
LOCATION:The Writer’s Center\, 4508 Walsh Street\, Bethesda\, 20815\, United States
CATEGORIES:Reading
ORGANIZER;CN="The Word Works":MAILTO:karren@wordworksbooks.org
END:VEVENT
END:VCALENDAR