BEGIN:VCALENDAR
VERSION:2.0
PRODID:-//Word Works Books - ECPv6.15.20//NONSGML v1.0//EN
CALSCALE:GREGORIAN
METHOD:PUBLISH
X-ORIGINAL-URL:https://wordworksbooks.org
X-WR-CALDESC:Events for Word Works Books
REFRESH-INTERVAL;VALUE=DURATION:PT1H
X-Robots-Tag:noindex
X-PUBLISHED-TTL:PT1H
BEGIN:VTIMEZONE
TZID:America/New_York
BEGIN:DAYLIGHT
TZOFFSETFROM:-0500
TZOFFSETTO:-0400
TZNAME:EDT
DTSTART:20230312T070000
END:DAYLIGHT
BEGIN:STANDARD
TZOFFSETFROM:-0400
TZOFFSETTO:-0500
TZNAME:EST
DTSTART:20231105T060000
END:STANDARD
BEGIN:DAYLIGHT
TZOFFSETFROM:-0500
TZOFFSETTO:-0400
TZNAME:EDT
DTSTART:20240310T070000
END:DAYLIGHT
BEGIN:STANDARD
TZOFFSETFROM:-0400
TZOFFSETTO:-0500
TZNAME:EST
DTSTART:20241103T060000
END:STANDARD
BEGIN:DAYLIGHT
TZOFFSETFROM:-0500
TZOFFSETTO:-0400
TZNAME:EDT
DTSTART:20250309T070000
END:DAYLIGHT
BEGIN:STANDARD
TZOFFSETFROM:-0400
TZOFFSETTO:-0500
TZNAME:EST
DTSTART:20251102T060000
END:STANDARD
BEGIN:DAYLIGHT
TZOFFSETFROM:-0500
TZOFFSETTO:-0400
TZNAME:EDT
DTSTART:20260308T070000
END:DAYLIGHT
BEGIN:STANDARD
TZOFFSETFROM:-0400
TZOFFSETTO:-0500
TZNAME:EST
DTSTART:20261101T060000
END:STANDARD
BEGIN:DAYLIGHT
TZOFFSETFROM:-0500
TZOFFSETTO:-0400
TZNAME:EDT
DTSTART:20270314T070000
END:DAYLIGHT
BEGIN:STANDARD
TZOFFSETFROM:-0400
TZOFFSETTO:-0500
TZNAME:EST
DTSTART:20271107T060000
END:STANDARD
END:VTIMEZONE
BEGIN:VTIMEZONE
TZID:America/New_York
BEGIN:DAYLIGHT
TZOFFSETFROM:-0500
TZOFFSETTO:-0400
TZNAME:EDT
DTSTART:20220313T070000
END:DAYLIGHT
BEGIN:STANDARD
TZOFFSETFROM:-0400
TZOFFSETTO:-0500
TZNAME:EST
DTSTART:20221106T060000
END:STANDARD
BEGIN:DAYLIGHT
TZOFFSETFROM:-0500
TZOFFSETTO:-0400
TZNAME:EDT
DTSTART:20230312T070000
END:DAYLIGHT
BEGIN:STANDARD
TZOFFSETFROM:-0400
TZOFFSETTO:-0500
TZNAME:EST
DTSTART:20231105T060000
END:STANDARD
BEGIN:DAYLIGHT
TZOFFSETFROM:-0500
TZOFFSETTO:-0400
TZNAME:EDT
DTSTART:20240310T070000
END:DAYLIGHT
BEGIN:STANDARD
TZOFFSETFROM:-0400
TZOFFSETTO:-0500
TZNAME:EST
DTSTART:20241103T060000
END:STANDARD
END:VTIMEZONE
BEGIN:VEVENT
DTSTART;TZID=America/New_York:20260406T190000
DTEND;TZID=America/New_York:20260406T203000
DTSTAMP:20260422T184820
CREATED:20260126T200853Z
LAST-MODIFIED:20260126T202533Z
UID:10027-1775502000-1775507400@wordworksbooks.org
SUMMARY:Holly Karapetkova & Steven Leyva
DESCRIPTION:
URL:https://wordworksbooks.org/event/holly-karapetkova-steven-leyva/
LOCATION:The Writer’s Center\, 4508 Walsh Street\, Bethesda\, 20815\, United States
CATEGORIES:Reading
ORGANIZER;CN="The Word Works":MAILTO:karren@wordworksbooks.org
END:VEVENT
BEGIN:VEVENT
DTSTART;TZID=America/New_York:20260306T190000
DTEND;TZID=America/New_York:20260306T210000
DTSTAMP:20260422T184820
CREATED:20260217T205220Z
LAST-MODIFIED:20260217T205220Z
UID:10155-1772823600-1772830800@wordworksbooks.org
SUMMARY:New Authors Read at AWP!
DESCRIPTION:Join us 5:30-&PM on Friday\, March 6\, just a few blocks from the AWP convention center in Baltimore for celebratory food\, drink\, and POETRY! \nAt 550 Washington Blvd.\, The Hampton Inn\, The Baltimore Room. \nNew Word Works authors Lindsay Ahl\, Marina Blitshteyn\, Mary Block\, Luisa Caycedo-Kimura\, Alyse Knorr\, Arden Levine\, Jendi Reiter\, Brad Richard\, and Roger Sedarat will share poems from their 2025 and 2026 collections. Other recent Word Works authors will be joining in the festivities as time allows\, including Nathalie Anderson\, Henry Crawford\, Debbie Kuan\, Leah Umansky\, and more. FREE and open to the public! \nAfter a brief break at 7\, Karren Alenier will lead readings from her project From the Belly: Poets Respond to Gertrude Stein’s Tender Buttons\, Vol. III Rooms. Poets will read their portion of “Rooms\,” discuss the basis for their response\, then each share the poem they wrote in response to Stein’s landmark work. Come for the innovation; leave inspired! \nCome to either reading or both ! We can’t wait to see you and share what we’ve been working on. \n  \n  \n  \n  \n  \n  \n  \n  \n  \n  \n  \n  \n  \n  \n  \n  \n 
URL:https://wordworksbooks.org/event/new-authors-read-at-awp/
LOCATION:The Hampton Inn-6 minute walk from AWP!\, 550 Washington Blvd.\, The Hampton Inn\, Baltimore\, MD\, 21230\, United States
ORGANIZER;CN="The Word Works":MAILTO:karren@wordworksbooks.org
END:VEVENT
BEGIN:VEVENT
DTSTART;TZID=America/New_York:20260302T190000
DTEND;TZID=America/New_York:20260302T203000
DTSTAMP:20260422T184820
CREATED:20260126T200728Z
LAST-MODIFIED:20260126T200728Z
UID:10025-1772478000-1772483400@wordworksbooks.org
SUMMARY:Grace Cavalieri & Geoffrey Himes & Kenzie Allen
DESCRIPTION:
URL:https://wordworksbooks.org/event/grace-cavalieri-geoffrey-himes-kenzie-allen/
LOCATION:MD
CATEGORIES:Reading
ORGANIZER;CN="The Word Works":MAILTO:karren@wordworksbooks.org
END:VEVENT
BEGIN:VEVENT
DTSTART;TZID=America/New_York:20260202T190000
DTEND;TZID=America/New_York:20260202T203000
DTSTAMP:20260422T184820
CREATED:20260126T200629Z
LAST-MODIFIED:20260126T200629Z
UID:10023-1770058800-1770064200@wordworksbooks.org
SUMMARY:Brandel France de Bravo & Diane Seuss
DESCRIPTION:
URL:https://wordworksbooks.org/event/brandel-france-de-bravo-diane-seuss/
LOCATION:MD
CATEGORIES:Reading
ORGANIZER;CN="The Word Works":MAILTO:karren@wordworksbooks.org
END:VEVENT
BEGIN:VEVENT
DTSTART;TZID=America/New_York:20260105T190000
DTEND;TZID=America/New_York:20260105T203000
DTSTAMP:20260422T184820
CREATED:20260126T195838Z
LAST-MODIFIED:20260126T201004Z
UID:10021-1767639600-1767645000@wordworksbooks.org
SUMMARY:Henry Crawford & Greg McBride
DESCRIPTION:The Writer’s Center\, 4508 Walsh St.\, Bethesda\, MD
URL:https://wordworksbooks.org/event/henry-crawford-greg-mcbride/
LOCATION:The Writer’s Center\, 4508 Walsh Street\, Bethesda\, 20815\, United States
CATEGORIES:Reading
ORGANIZER;CN="The Word Works":MAILTO:karren@wordworksbooks.org
END:VEVENT
BEGIN:VEVENT
DTSTART;TZID=America/New_York:20251201T190000
DTEND;TZID=America/New_York:20251201T200000
DTSTAMP:20260422T184820
CREATED:20250310T173835Z
LAST-MODIFIED:20250310T175414Z
UID:9588-1764615600-1764619200@wordworksbooks.org
SUMMARY:From the Belly From the Belly: Vol. III Rooms
DESCRIPTION:Also in person at The Writer’s Center\, Bethesda MD
URL:https://wordworksbooks.org/event/from-the-belly-from-the-belly-vol-iii-rooms/
LOCATION:Zoom
CATEGORIES:Reading
ORGANIZER;CN="The Word Works":MAILTO:karren@wordworksbooks.org
END:VEVENT
BEGIN:VEVENT
DTSTART;TZID=America/New_York:20251103T190000
DTEND;TZID=America/New_York:20251103T200000
DTSTAMP:20260422T184820
CREATED:20250310T173712Z
LAST-MODIFIED:20250310T175442Z
UID:9586-1762196400-1762200000@wordworksbooks.org
SUMMARY:Emily Hyland & Megan Pinto
DESCRIPTION:
URL:https://wordworksbooks.org/event/emily-hyland-megan-pinto/
LOCATION:Zoom
CATEGORIES:Reading
ORGANIZER;CN="The Word Works":MAILTO:karren@wordworksbooks.org
END:VEVENT
BEGIN:VEVENT
DTSTART;TZID=America/New_York:20251006T190000
DTEND;TZID=America/New_York:20251006T200000
DTSTAMP:20260422T184820
CREATED:20250310T173614Z
LAST-MODIFIED:20250310T175500Z
UID:9584-1759777200-1759780800@wordworksbooks.org
SUMMARY:Bonnie Naradzay\, Michele Wolf & Kim Roberts/Michael Gushue
DESCRIPTION:Also in person at The Writer’s Center\, Bethesda MD
URL:https://wordworksbooks.org/event/bonnie-naradzay-michele-wolf-kim-roberts-michael-gushue/
LOCATION:Zoom
CATEGORIES:Reading
END:VEVENT
BEGIN:VEVENT
DTSTART;TZID=America/New_York:20250908T190000
DTEND;TZID=America/New_York:20250908T200000
DTSTAMP:20260422T184820
CREATED:20250310T173509Z
LAST-MODIFIED:20250310T175511Z
UID:9582-1757358000-1757361600@wordworksbooks.org
SUMMARY:Nancy Gomez Miller & Sahar Muradi
DESCRIPTION:
URL:https://wordworksbooks.org/event/nancy-gomez-miller-sahar-muradi/
LOCATION:Zoom
CATEGORIES:Reading
ORGANIZER;CN="The Word Works":MAILTO:karren@wordworksbooks.org
END:VEVENT
BEGIN:VEVENT
DTSTART;TZID=America/New_York:20250804T190000
DTEND;TZID=America/New_York:20250804T200000
DTSTAMP:20260422T184820
CREATED:20250310T173414Z
LAST-MODIFIED:20250310T175520Z
UID:9580-1754334000-1754337600@wordworksbooks.org
SUMMARY:Mojdeh Bahar & Amelia Parentau
DESCRIPTION:
URL:https://wordworksbooks.org/event/mojdeh-bahar-amelia-parentau/
LOCATION:Zoom
CATEGORIES:Reading
END:VEVENT
BEGIN:VEVENT
DTSTART;TZID=America/New_York:20250707T190000
DTEND;TZID=America/New_York:20250707T200000
DTSTAMP:20260422T184820
CREATED:20250310T173300Z
LAST-MODIFIED:20250310T175545Z
UID:9578-1751914800-1751918400@wordworksbooks.org
SUMMARY:Adam Chiles\, Eileen Sirota\, Majda Gama
DESCRIPTION:Also in person at The Writer’s Center\, Bethesda MD
URL:https://wordworksbooks.org/event/adam-chiles-eileen-sirota-majda-gama/
LOCATION:Zoom
CATEGORIES:Reading
ORGANIZER;CN="The Word Works":MAILTO:karren@wordworksbooks.org
END:VEVENT
BEGIN:VEVENT
DTSTART;TZID=America/New_York:20250602T190000
DTEND;TZID=America/New_York:20250602T200000
DTSTAMP:20260422T184820
CREATED:20250310T173109Z
LAST-MODIFIED:20250310T175606Z
UID:9575-1748890800-1748894400@wordworksbooks.org
SUMMARY:TBA & 2025 Jacklyn Potter Young Poets
DESCRIPTION:
URL:https://wordworksbooks.org/event/tba-2025-jacklyn-potter-young-poets/
LOCATION:Zoom
CATEGORIES:Reading
ORGANIZER;CN="The Word Works":MAILTO:karren@wordworksbooks.org
END:VEVENT
BEGIN:VEVENT
DTSTART;TZID=America/New_York:20250505T190000
DTEND;TZID=America/New_York:20250505T200000
DTSTAMP:20260422T184820
CREATED:20250310T173016Z
LAST-MODIFIED:20250310T175616Z
UID:9573-1746471600-1746475200@wordworksbooks.org
SUMMARY:Suzanne Frischkorn & Ae Hee Lee
DESCRIPTION:
URL:https://wordworksbooks.org/event/suzanne-frischkorn-ae-hee-lee/
LOCATION:Zoom
CATEGORIES:Reading
END:VEVENT
BEGIN:VEVENT
DTSTART;TZID=America/New_York:20250407T190000
DTEND;TZID=America/New_York:20250407T200000
DTSTAMP:20260422T184820
CREATED:20250310T172616Z
LAST-MODIFIED:20250310T175625Z
UID:9570-1744052400-1744056000@wordworksbooks.org
SUMMARY:Doritt Carroll\, Hiram Larew\, Lillo Way
DESCRIPTION:Also in person at The Writer’s Center\, Bethesda MD
URL:https://wordworksbooks.org/event/doritt-carroll-hiram-larew-lillo-way/
LOCATION:Zoom
CATEGORIES:Reading
ORGANIZER;CN="The Word Works":MAILTO:karren@wordworksbooks.org
END:VEVENT
BEGIN:VEVENT
DTSTART;TZID=America/New_York:20241202T190000
DTEND;TZID=America/New_York:20241202T203000
DTSTAMP:20260422T184820
CREATED:20240127T213347Z
LAST-MODIFIED:20241026T001452Z
UID:8783-1733166000-1733171400@wordworksbooks.org
SUMMARY:Cafe Muse: From the Belly Volume II
DESCRIPTION:Readers include: Karren Alenier\, Holly Bass\, Donna Denizé\, Majda Gama\, Michael Gushue\, Susan Okie. \n  \nRegister at https://sites.google.com/view/cafe-muse-events/home
URL:https://wordworksbooks.org/event/cafe-muse-from-the-belly-volume-ii/
LOCATION:The Writer’s Center\, 4508 Walsh Street\, Bethesda\, 20815\, United States
CATEGORIES:Reading
END:VEVENT
BEGIN:VEVENT
DTSTART;TZID=America/New_York:20241104T190000
DTEND;TZID=America/New_York:20241104T203000
DTSTAMP:20260422T184820
CREATED:20240127T213014Z
LAST-MODIFIED:20241026T001003Z
UID:8778-1730746800-1730752200@wordworksbooks.org
SUMMARY:Cafe Muse: Henry Crawford & E. Ethelbert Miller
DESCRIPTION:Register at https://sites.google.com/view/cafe-muse-events/home
URL:https://wordworksbooks.org/event/cafe-muse-henry-crawford-e-ethelbert-miller/
LOCATION:The Writer’s Center\, 4508 Walsh Street\, Bethesda\, 20815\, United States
CATEGORIES:Reading
END:VEVENT
BEGIN:VEVENT
DTSTART;TZID=America/New_York:20241007T191500
DTEND;TZID=America/New_York:20241007T203000
DTSTAMP:20260422T184820
CREATED:20240127T212730Z
LAST-MODIFIED:20240127T212730Z
UID:8774-1728328500-1728333000@wordworksbooks.org
SUMMARY:Cafe Muse: Ed Madden & Kevin McLellan
DESCRIPTION:
URL:https://wordworksbooks.org/event/cafe-muse-ed-madden-kevin-mclellan/
LOCATION:Zoom
CATEGORIES:Reading
END:VEVENT
BEGIN:VEVENT
DTSTART;TZID=America/New_York:20240909T191500
DTEND;TZID=America/New_York:20240909T203000
DTSTAMP:20260422T184820
CREATED:20240127T212546Z
LAST-MODIFIED:20240127T212546Z
UID:8771-1725909300-1725913800@wordworksbooks.org
SUMMARY:Cafe Muse: Carol Jennings & Andy Young
DESCRIPTION:
URL:https://wordworksbooks.org/event/cafe-muse-carol-jennings-andy-young/
LOCATION:Zoom
CATEGORIES:Reading
END:VEVENT
BEGIN:VEVENT
DTSTART;TZID=America/New_York:20240805T191500
DTEND;TZID=America/New_York:20240805T203000
DTSTAMP:20260422T184820
CREATED:20240127T212336Z
LAST-MODIFIED:20240127T212336Z
UID:8769-1722885300-1722889800@wordworksbooks.org
SUMMARY:Cafe Muse: Translation—TBA
DESCRIPTION:
URL:https://wordworksbooks.org/event/cafe-muse-translation-tba/
LOCATION:Zoom
CATEGORIES:Reading
END:VEVENT
BEGIN:VEVENT
DTSTART;TZID=America/New_York:20240701T191500
DTEND;TZID=America/New_York:20240701T203000
DTSTAMP:20260422T184820
CREATED:20240127T211859Z
LAST-MODIFIED:20240127T211859Z
UID:8766-1719861300-1719865800@wordworksbooks.org
SUMMARY:Cafe Muse: Zeina Azzam & Debora Kuan
DESCRIPTION:
URL:https://wordworksbooks.org/event/cafe-muse-zeina-azzam-debora-kuan/
LOCATION:Zoom
CATEGORIES:Reading
END:VEVENT
BEGIN:VEVENT
DTSTART;TZID=America/New_York:20240603T191500
DTEND;TZID=America/New_York:20240603T203000
DTSTAMP:20260422T184820
CREATED:20240127T211439Z
LAST-MODIFIED:20240127T211439Z
UID:8764-1717442100-1717446600@wordworksbooks.org
SUMMARY:Cafe Muse: Sarah Ghazal Ali & Jacklyn Potter Young Poets
DESCRIPTION:
URL:https://wordworksbooks.org/event/cafe-muse-sarah-ghazal-ali-jacklyn-potter-young-poets/
LOCATION:Zoom
CATEGORIES:Reading
END:VEVENT
BEGIN:VEVENT
DTSTART;TZID=America/New_York:20240506T191500
DTEND;TZID=America/New_York:20240506T203000
DTSTAMP:20260422T184820
CREATED:20240127T210707Z
LAST-MODIFIED:20240127T210707Z
UID:8762-1715022900-1715027400@wordworksbooks.org
SUMMARY:Cafe Muse: Richard Foerster & Leah Umansky
DESCRIPTION:
URL:https://wordworksbooks.org/event/cafe-muse-richard-foerster-leah-umansky/
LOCATION:Zoom
CATEGORIES:Reading
END:VEVENT
BEGIN:VEVENT
DTSTART;TZID=America/New_York:20240401T190000
DTEND;TZID=America/New_York:20240401T203000
DTSTAMP:20260422T184820
CREATED:20240127T210320Z
LAST-MODIFIED:20240127T210925Z
UID:8760-1711998000-1712003400@wordworksbooks.org
SUMMARY:Cafe Muse: Jean Nordhaus & Jane Satterfield
DESCRIPTION:
URL:https://wordworksbooks.org/event/cafe-muse-jean-nordhaus-jane-satterfield/
LOCATION:The Writer’s Center\, 4508 Walsh Street\, Bethesda\, 20815\, United States
CATEGORIES:Reading
END:VEVENT
BEGIN:VEVENT
DTSTART;TZID=America/New_York:20240304T191500
DTEND;TZID=America/New_York:20240304T203000
DTSTAMP:20260422T184820
CREATED:20240127T205343Z
LAST-MODIFIED:20240127T205343Z
UID:8758-1709579700-1709584200@wordworksbooks.org
SUMMARY:Cafe Muse: Yvette Neisser & Natalie Shapero
DESCRIPTION:
URL:https://wordworksbooks.org/event/cafe-muse-yvette-neisser-natalie-shapero/
LOCATION:MD
CATEGORIES:Reading
END:VEVENT
BEGIN:VEVENT
DTSTART;TZID=America/New_York:20240205T191500
DTEND;TZID=America/New_York:20240205T203000
DTSTAMP:20260422T184820
CREATED:20240127T203346Z
LAST-MODIFIED:20240127T203346Z
UID:8755-1707160500-1707165000@wordworksbooks.org
SUMMARY:Cafe Muse: Jessica Cuello & Mark Doty
DESCRIPTION:
URL:https://wordworksbooks.org/event/cafe-muse-jessica-cuello-mark-doty/
LOCATION:Zoom
CATEGORIES:Reading
END:VEVENT
BEGIN:VEVENT
DTSTART;TZID=America/New_York:20231204T191500
DTEND;TZID=America/New_York:20231204T203000
DTSTAMP:20260422T184820
CREATED:20230129T170402Z
LAST-MODIFIED:20230129T170402Z
UID:7829-1701717300-1701721800@wordworksbooks.org
SUMMARY:101 Jewish Poems Anthology Reading
DESCRIPTION:Please go to our Café Muse Literary Salon Online website at https://sites.google.com/view/cafe-muse-events/home to register for this event. We will send you a reminder email and link by the day of the reading.
URL:https://wordworksbooks.org/event/101-jewish-poems-anthology-reading/
LOCATION:Zoom
CATEGORIES:Reading
END:VEVENT
BEGIN:VEVENT
DTSTART;TZID=America/New_York:20231106T191500
DTEND;TZID=America/New_York:20231106T203000
DTSTAMP:20260422T184820
CREATED:20230129T165016Z
LAST-MODIFIED:20230129T165016Z
UID:7827-1699298100-1699302600@wordworksbooks.org
SUMMARY:David Keplinger and Dorianne Laux
DESCRIPTION:Please go to our Café Muse Literary Salon Online website at https://sites.google.com/view/cafe-muse-events/home to register for this event. We will send you a reminder email and link by the day of the reading.
URL:https://wordworksbooks.org/event/david-keplinger-and-dorianne-laux/
LOCATION:Zoom
CATEGORIES:Reading
END:VEVENT
BEGIN:VEVENT
DTSTART;TZID=America/New_York:20231002T191500
DTEND;TZID=America/New_York:20231002T203000
DTSTAMP:20260422T184820
CREATED:20230129T163307Z
LAST-MODIFIED:20230129T163307Z
UID:7825-1696274100-1696278600@wordworksbooks.org
SUMMARY:Majda Gama and Alina Stefanescu
DESCRIPTION:Please go to our Café Muse Literary Salon Online website at https://sites.google.com/view/cafe-muse-events/home to register for this event. We will send you a reminder email and link by the day of the reading.
URL:https://wordworksbooks.org/event/majda-gama-and-alina-stefanescu/
LOCATION:Zoom
CATEGORIES:Reading
END:VEVENT
BEGIN:VEVENT
DTSTART;TZID=America/New_York:20230911T191500
DTEND;TZID=America/New_York:20230911T203000
DTSTAMP:20260422T184820
CREATED:20230129T162713Z
LAST-MODIFIED:20230129T162713Z
UID:7823-1694459700-1694464200@wordworksbooks.org
SUMMARY:Eman Quotah and Anne Harding Woodworth
DESCRIPTION:Please go to our Café Muse Literary Salon Online website at https://sites.google.com/view/cafe-muse-events/home to register for this event. We will send you a reminder email and link by the day of the reading.
URL:https://wordworksbooks.org/event/eman-quotah-and-anne-harding-woodworth/
LOCATION:Zoom
CATEGORIES:Reading
END:VEVENT
BEGIN:VEVENT
DTSTART;TZID=America/New_York:20230807T191500
DTEND;TZID=America/New_York:20230807T203000
DTSTAMP:20260422T184820
CREATED:20230129T162045Z
LAST-MODIFIED:20230129T162045Z
UID:7820-1691435700-1691440200@wordworksbooks.org
SUMMARY:DC-ALT presents Poetry in Translation hosted by Barbara Goldberg
DESCRIPTION:Please go to our Café Muse Literary Salon Online website at https://sites.google.com/view/cafe-muse-events/home to register for this event. We will send you a reminder email and link by the day of the reading.
URL:https://wordworksbooks.org/event/dc-alt-presents-poetry-in-translation-hosted-by-barbara-goldberg/
LOCATION:Zoom
CATEGORIES:Reading
END:VEVENT
END:VCALENDAR