BEGIN:VCALENDAR
VERSION:2.0
PRODID:-//Word Works Books - ECPv6.15.20//NONSGML v1.0//EN
CALSCALE:GREGORIAN
METHOD:PUBLISH
X-WR-CALNAME:Word Works Books
X-ORIGINAL-URL:https://wordworksbooks.org
X-WR-CALDESC:Events for Word Works Books
REFRESH-INTERVAL;VALUE=DURATION:PT1H
X-Robots-Tag:noindex
X-PUBLISHED-TTL:PT1H
BEGIN:VTIMEZONE
TZID:America/New_York
BEGIN:DAYLIGHT
TZOFFSETFROM:-0500
TZOFFSETTO:-0400
TZNAME:EDT
DTSTART:20190310T070000
END:DAYLIGHT
BEGIN:STANDARD
TZOFFSETFROM:-0400
TZOFFSETTO:-0500
TZNAME:EST
DTSTART:20191103T060000
END:STANDARD
BEGIN:DAYLIGHT
TZOFFSETFROM:-0500
TZOFFSETTO:-0400
TZNAME:EDT
DTSTART:20200308T070000
END:DAYLIGHT
BEGIN:STANDARD
TZOFFSETFROM:-0400
TZOFFSETTO:-0500
TZNAME:EST
DTSTART:20201101T060000
END:STANDARD
BEGIN:DAYLIGHT
TZOFFSETFROM:-0500
TZOFFSETTO:-0400
TZNAME:EDT
DTSTART:20210314T070000
END:DAYLIGHT
BEGIN:STANDARD
TZOFFSETFROM:-0400
TZOFFSETTO:-0500
TZNAME:EST
DTSTART:20211107T060000
END:STANDARD
END:VTIMEZONE
BEGIN:VTIMEZONE
TZID:UTC
BEGIN:STANDARD
TZOFFSETFROM:+0000
TZOFFSETTO:+0000
TZNAME:UTC
DTSTART:20160101T000000
END:STANDARD
END:VTIMEZONE
BEGIN:VEVENT
DTSTART;TZID=America/New_York:20200415T080000
DTEND;TZID=America/New_York:20200415T170000
DTSTAMP:20260423T073114
CREATED:20200403T002422Z
LAST-MODIFIED:20200403T002648Z
UID:1772-1586937600-1586970000@wordworksbooks.org
SUMMARY:Washington Prize Deadline Extended
DESCRIPTION:
URL:https://wordworksbooks.org/event/washington-prize-deadline-extended/
CATEGORIES:Contest
END:VEVENT
BEGIN:VEVENT
DTSTART;VALUE=DATE:20180501
DTEND;VALUE=DATE:20180502
DTSTAMP:20260423T073114
CREATED:20180227T012338Z
LAST-MODIFIED:20180227T020114Z
UID:1117-1525132800-1525219199@wordworksbooks.org
SUMMARY:Hilary Tham Capital Collection Deadline
DESCRIPTION:The Hilary Tham Capital Collection (HTCC) is an imprint of The Word Works featuring juried selections from poets who volunteer to assist a literary organization in its mission to promote contemporary poetry. Any literary nonprofit operating in America or Canada may nominate their volunteers (by April 15) to submit a poetry manuscript to the Hilary Tham Capital Collection\, an invitation-only judging process. Each nomination is good for two years\, and anyone can be nominated multiple times\, as long as the poet is continuing to volunteer. An organization may nominate as many volunteers as it likes. \nAll nominees are invited to submit during the month of April\, and their manuscripts are reviewed by an outside judge. This year’s judge is Jericho Brown. \nTwo titles are selected each year for publication. A nomination form is available upon request to editor@WordWorksBooks.org. The $25 reading fee can be paid by either the nominating organization or the poet. \nFor more information\, visit: http://www.wordworksbooks.org/submissions/hilary-tham-capital-collection/ \nNina Budabin McQuown is the Hilary Tham Capital Collection Editor.
URL:https://wordworksbooks.org/event/hilary-tham-capital-collection-deadline/
CATEGORIES:Contest
END:VEVENT
BEGIN:VEVENT
DTSTART;VALUE=DATE:20180331
DTEND;VALUE=DATE:20180401
DTSTAMP:20260423T073114
CREATED:20180227T012338Z
LAST-MODIFIED:20180227T020428Z
UID:1119-1522454400-1522540799@wordworksbooks.org
SUMMARY:Joaquin Miller Poetry Series Deadline
DESCRIPTION:The Joaquin Miller Poetry Series takes place at the Rock Creek Nature Center auditoreum once a week on Sundays during June and July. Two poets are usually featured. Sistah Joy Alford\, Jason Gebhardt\, Beth Konkoski\, Susan Sonde\, and Venus Thrash are  co-hosts for 2018. The judging panel includes: Karren Alenier\, Sistah Joy Alford\, Barbara Goldberg\, Beth Konkoski\, Susan Sonde\, and Rosemary Winslow. \nFor more information on the application requirements and other information: \nhttp://www.wordworksbooks.org/events-calendar/joaquin-miller-poetry-series/ \n 
URL:https://wordworksbooks.org/event/joaquin-miller-poetry-series-deadline/
CATEGORIES:Contest
END:VEVENT
BEGIN:VEVENT
DTSTART;VALUE=DATE:20180331
DTEND;VALUE=DATE:20180401
DTSTAMP:20260423T073114
CREATED:20180227T012338Z
LAST-MODIFIED:20180227T021235Z
UID:1121-1522454400-1522540799@wordworksbooks.org
SUMMARY:Jacklyn Potter Young Poets Competition Deadline
DESCRIPTION:The Jacklyn Potter Young Poets Competition provides an annual opportunity for two high school students to read their original work with an established poet in the Joaquin Miller Poetry Series at the Rock Creek Nature Center. Selected by an independent judge\, the young poets are then scheduled for a reading with honorarium in the Miller Poetry Series\, a summer program occurring in June and July. \n 
URL:https://wordworksbooks.org/event/jacklyn-potter-young-poets-competition-deadline/
CATEGORIES:Contest
END:VEVENT
BEGIN:VEVENT
DTSTART;VALUE=DATE:20180315
DTEND;VALUE=DATE:20180316
DTSTAMP:20260423T073114
CREATED:20180227T012338Z
LAST-MODIFIED:20180227T012338Z
UID:1115-1521072000-1521158399@wordworksbooks.org
SUMMARY:Washington Prize Deadline
DESCRIPTION:Each year\, The Word Works awards a living American or Canadian poet $1\,500\, a generous supply of author copies\, and book publication for a volume of original poetry in English. To enter\, submit a manuscript of 48 to 80 pages between January 15 and March 15\, and pay the $25 entry fee. \nThe winner is selected by August each year. Book publication is planned for January of the following year. \nThe Word Works has awarded the Washington Prize since 1981. All entrants are offered a copy of the winning book\, and finalists and semi-finalists may receive feedback from their readers upon request. \nDistribution is through Small Press Distribution\, Ingram\, and Baker & Taylor. \nDirect questions to Andrea Carter Brown\, Washington Prize Series Editor\, at editor@wordworksbooks.org or by regular mail to The Word Works\, PO Box 42164\, Washington\, D.C.\, 20015. Include a self-addressed stamped envelope with all regular mail inquiries. \nFor more information visit: http://www.wordworksbooks.org/submissions/washington-prize/ \n 
URL:https://wordworksbooks.org/event/washington-prize-deadline/
CATEGORIES:Contest
END:VEVENT
BEGIN:VEVENT
DTSTART;TZID=UTC:20170115T080000
DTEND;TZID=UTC:20170315T235900
DTSTAMP:20260423T073114
CREATED:20160228T213738Z
LAST-MODIFIED:20170131T073013Z
UID:679-1484467200-1489622340@wordworksbooks.org
SUMMARY:Washington Prize Submission Deadline
DESCRIPTION:Submit your poetry manuscripts through our online submission manager or postmark your paper submission by midnight of our due date. See our website for submission details. \nVisit our AWP booth 866 for details and to see books that have won the Washington Prize.
URL:https://wordworksbooks.org/event/washington-prize-submission-deadline/
CATEGORIES:Contest
END:VEVENT
END:VCALENDAR